BEGIN:VCALENDAR
VERSION:2.0
PRODID:-//DFG Oldenburg - ECPv6.15.11//NONSGML v1.0//EN
CALSCALE:GREGORIAN
METHOD:PUBLISH
X-WR-CALNAME:DFG Oldenburg
X-ORIGINAL-URL:https://dfg-oldenburg.com
X-WR-CALDESC:Veranstaltungen für DFG Oldenburg
REFRESH-INTERVAL;VALUE=DURATION:PT1H
X-Robots-Tag:noindex
X-PUBLISHED-TTL:PT1H
BEGIN:VTIMEZONE
TZID:Europe/Berlin
BEGIN:DAYLIGHT
TZOFFSETFROM:+0100
TZOFFSETTO:+0200
TZNAME:CEST
DTSTART:20250330T010000
END:DAYLIGHT
BEGIN:STANDARD
TZOFFSETFROM:+0200
TZOFFSETTO:+0100
TZNAME:CET
DTSTART:20251026T010000
END:STANDARD
BEGIN:DAYLIGHT
TZOFFSETFROM:+0100
TZOFFSETTO:+0200
TZNAME:CEST
DTSTART:20260329T010000
END:DAYLIGHT
BEGIN:STANDARD
TZOFFSETFROM:+0200
TZOFFSETTO:+0100
TZNAME:CET
DTSTART:20261025T010000
END:STANDARD
BEGIN:DAYLIGHT
TZOFFSETFROM:+0100
TZOFFSETTO:+0200
TZNAME:CEST
DTSTART:20270328T010000
END:DAYLIGHT
BEGIN:STANDARD
TZOFFSETFROM:+0200
TZOFFSETTO:+0100
TZNAME:CET
DTSTART:20271031T010000
END:STANDARD
END:VTIMEZONE
BEGIN:VEVENT
DTSTART;TZID=Europe/Berlin:20260131T153000
DTEND;TZID=Europe/Berlin:20260131T173000
DTSTAMP:20260423T110908
CREATED:20251004T171902Z
LAST-MODIFIED:20251004T172103Z
UID:9498-1769873400-1769880600@dfg-oldenburg.com
SUMMARY:Vortrag von Detlef Stein „Claude Monet – Tage am Wasser“
DESCRIPTION:Wasser und die flüchtigen Spiegelungen des Lichts waren dem 1840 geborenen Claude Monet Faszinosum und Herausforderung zugleich. Ihrem Studium widmete sich der Künstler mit Hingabe während unzähliger Stunden: an den Ufern der Seine\, den zerklüfteten Felsenpartien der Normandie oder – von der Welt zurückgezogen – an seinem Seerosenteich in Giverny\, dem letzten Wohnort des Malers. Auf Leinwand gebannt gehören die dabei entstandenen Impressionen heute zu den Meisterwerken der Moderne.\nDer Vortrag führt an die Wirkungsstätten Monets und zeichnet die wechselhafte Karriere des Künstlers nach\, der malend gegen die erstarrten Konventionen der Akademien aufbegehrte und sich an die Spitze der impressionistischen Bewegung setzte. Von Kritikern verhöhnt und vom Publikum verspottet verfolgte Claude Monet dabei konsequent seinen Weg. \nSamstag\, 31. Januar 2026\, 15:30 Uhr\nPFL\, Peterstraße\, Großer Saal \nEintritt Nichtmitglieder: 8\,00 €\nMitglieder: 5\,00 €\nSchüler\, Studenten frei
URL:https://dfg-oldenburg.com/veranstaltung/vortrag-von-detlef-stein-claude-monet-tage-am-wasser/
LOCATION:Kulturzentrum im PFL\, Peterstraße 3\, Oldenburg\, Niedersachsen\, 26121\, Deutschland
CATEGORIES:Programm DFG,Vortrag
END:VEVENT
END:VCALENDAR