BEGIN:VCALENDAR
VERSION:2.0
PRODID:-//DFG Oldenburg - ECPv6.15.11//NONSGML v1.0//EN
CALSCALE:GREGORIAN
METHOD:PUBLISH
X-WR-CALNAME:DFG Oldenburg
X-ORIGINAL-URL:https://dfg-oldenburg.com
X-WR-CALDESC:Veranstaltungen für DFG Oldenburg
REFRESH-INTERVAL;VALUE=DURATION:PT1H
X-Robots-Tag:noindex
X-PUBLISHED-TTL:PT1H
BEGIN:VTIMEZONE
TZID:Europe/Berlin
BEGIN:DAYLIGHT
TZOFFSETFROM:+0100
TZOFFSETTO:+0200
TZNAME:CEST
DTSTART:20230326T010000
END:DAYLIGHT
BEGIN:STANDARD
TZOFFSETFROM:+0200
TZOFFSETTO:+0100
TZNAME:CET
DTSTART:20231029T010000
END:STANDARD
BEGIN:DAYLIGHT
TZOFFSETFROM:+0100
TZOFFSETTO:+0200
TZNAME:CEST
DTSTART:20240331T010000
END:DAYLIGHT
BEGIN:STANDARD
TZOFFSETFROM:+0200
TZOFFSETTO:+0100
TZNAME:CET
DTSTART:20241027T010000
END:STANDARD
BEGIN:DAYLIGHT
TZOFFSETFROM:+0100
TZOFFSETTO:+0200
TZNAME:CEST
DTSTART:20250330T010000
END:DAYLIGHT
BEGIN:STANDARD
TZOFFSETFROM:+0200
TZOFFSETTO:+0100
TZNAME:CET
DTSTART:20251026T010000
END:STANDARD
BEGIN:DAYLIGHT
TZOFFSETFROM:+0100
TZOFFSETTO:+0200
TZNAME:CEST
DTSTART:20260329T010000
END:DAYLIGHT
BEGIN:STANDARD
TZOFFSETFROM:+0200
TZOFFSETTO:+0100
TZNAME:CET
DTSTART:20261025T010000
END:STANDARD
END:VTIMEZONE
BEGIN:VEVENT
DTSTART;TZID=Europe/Berlin:20240707T150000
DTEND;TZID=Europe/Berlin:20250610T112152
DTSTAMP:20260425T175543
CREATED:20240703T165340Z
LAST-MODIFIED:20250617T091818Z
UID:8843-1720364400-1749554512@dfg-oldenburg.com
SUMMARY:"Pique-nique" en plein air
DESCRIPTION:Ein Dorfplatz im Grünen\, der für jedermann zugänglich ist\, mit schönem Ausblick auf den See und mit Sonnenuntergängen… \nDort möchte wir gerne ein „Pique-nique“ unter der Überdachung machen und gemütlich zusammensitzen\, plaudern und feiern sowie unsere Speisen und Getränke verzehren. \nJeder bringt dazu bitte etwas zu Essen und Trinken mit\, ebenso Teller\, Besteck\, Becher und Gläser\, Tücher etc. Eine Toilette gibt es dort leider nicht. Das dort befindliche „Boule-O-Drome“ lässt jedes französische Herz höher schlagen – bitte gerne Boule-Kugeln mitbringen… Wir haben bereits richtig schönes Wetter bestellt!
URL:https://dfg-oldenburg.com/veranstaltung/pique-nique-en-plein-air/
LOCATION:Dorfplatz am Tweelbäke See\, Kuhlmannsweg 20a\, Hude\, Niedersachsen\, 27798
CATEGORIES:Programm DFG
ATTACH;FMTTYPE=image/jpeg:https://dfg-oldenburg.com/wp-content/uploads/2017/02/cropped-DFG-Logo-klein.jpg
END:VEVENT
END:VCALENDAR