BEGIN:VCALENDAR
VERSION:2.0
PRODID:-//DFG Oldenburg - ECPv6.15.11//NONSGML v1.0//EN
CALSCALE:GREGORIAN
METHOD:PUBLISH
X-WR-CALNAME:DFG Oldenburg
X-ORIGINAL-URL:https://dfg-oldenburg.com
X-WR-CALDESC:Veranstaltungen für DFG Oldenburg
REFRESH-INTERVAL;VALUE=DURATION:PT1H
X-Robots-Tag:noindex
X-PUBLISHED-TTL:PT1H
BEGIN:VTIMEZONE
TZID:Europe/Berlin
BEGIN:DAYLIGHT
TZOFFSETFROM:+0100
TZOFFSETTO:+0200
TZNAME:CEST
DTSTART:20230326T010000
END:DAYLIGHT
BEGIN:STANDARD
TZOFFSETFROM:+0200
TZOFFSETTO:+0100
TZNAME:CET
DTSTART:20231029T010000
END:STANDARD
BEGIN:DAYLIGHT
TZOFFSETFROM:+0100
TZOFFSETTO:+0200
TZNAME:CEST
DTSTART:20240331T010000
END:DAYLIGHT
BEGIN:STANDARD
TZOFFSETFROM:+0200
TZOFFSETTO:+0100
TZNAME:CET
DTSTART:20241027T010000
END:STANDARD
BEGIN:DAYLIGHT
TZOFFSETFROM:+0100
TZOFFSETTO:+0200
TZNAME:CEST
DTSTART:20250330T010000
END:DAYLIGHT
BEGIN:STANDARD
TZOFFSETFROM:+0200
TZOFFSETTO:+0100
TZNAME:CET
DTSTART:20251026T010000
END:STANDARD
END:VTIMEZONE
BEGIN:VEVENT
DTSTART;TZID=Europe/Berlin:20240512T110000
DTEND;TZID=Europe/Berlin:20240512T130000
DTSTAMP:20260425T220447
CREATED:20240309T213959Z
LAST-MODIFIED:20250603T121720Z
UID:2278-1715511600-1715518800@dfg-oldenburg.com
SUMMARY:Kino-Matinée "Mon Crime"
DESCRIPTION:Diesmal zeigen wir in Kooperation mit dem Casablanca-Kino den aktuellen Film des bekannten französischen Regisseurs Franҫois Ozon\, „Mon Crime“ (dt. „Mein perfektes Verbrechen“)\, in Originalversion mit deutschen Untertiteln. \nVon François Ozon mit Nadia Tereszkiewicz\, Rebecca Marder\, Isabelle Huppert\, Dany Boon\, André Dussollier u.a.\, F 2023\, 103 Min.\, OmU \nDas Casablanca schreibt: „Paris in den 1930er-Jahren. Die hübsche\, aber erfolglose Schauspielerin Madeleine Verdier wird überraschend des Mordes an einem berühmten Filmproduzenten bezichtigt. Auf Anraten ihrer besten Freundin\, der arbeitslosen Anwältin Pauline\, bekennt sie sich schuldig\, obwohl sie das Verbrechen gar nicht begangen hat. Es folgt ein Aufsehen erregender Prozess\, in dem die clevere Pauline auf Notwehr plädiert und Madeleine prompt freigesprochen wird. Plötzlich ist sie ein Star und wird mit lukrativen Rollenangeboten überschüttet – bis zu dem Tag\, an dem eine Zeugin des Verbrechens auftaucht\, die die Wahrheit um jeden Preis enthüllen will.“ \nMeinfabelhaftesVerbrechen_c_2023_MANDARIN_ET_COMPAGNIE_FOZ_GAUMONT_SCOPE_PICTURES_FRANCE2CINEMA_PLAYTIME_PRODUCTION \nFilmstarts.de schreibt zu der Krimikomödie: „Fazit: Mit leichter Hand inszeniert\, ist François Ozons neuer Film nicht nur eine Augenweide\, sondern auch eine sehr unterhaltsame und elegante\, auf den zweiten Blick sogar durchaus tiefgründige Komödie. Die luxuriöse Ausstattung und das gut aufgelegte Ensemble\, in dem sich Alt- und Jungstars treffen\, wetteifern dabei mit einem augenzwinkernd aktuellen Plot\, der ebenso witzig wie boshaft die #MeToo-Debatte zitiert.“ \nDer Eintrittspreis (Filmvorführung inkl. Getränk) beträgt 13\,00 € und ist an der Kinokasse zu entrichten. Um 10.30 Uhr Einstimmung mit Getränk. Die Filmvorführung beginnt um 11.00 Uhr. Reservieren bzw. buchen Sie bitte Ihre Platzkarten direkt beim Casablanca (www.casablanca.de\, Tel.: 0441/884757). Das Kino empfiehlt die Online-Reservierung!
URL:https://dfg-oldenburg.com/veranstaltung/kino-matinee-mon-crime/
LOCATION:Casablanca Kino\, Johannisstr. 17\, Oldenburg\, Niedersachsen\, 26121
ATTACH;FMTTYPE=image/jpeg:https://dfg-oldenburg.com/wp-content/uploads/2024/03/07_MeinfabelhaftesVerbrechen_c_2023_MANDARIN_ET_COMPAGNIE_FOZ_GAUMONT_SCOPE_PICTURES_FRANCE2CINEMA_PLAYTIME_PRODUCTION.jpg
END:VEVENT
END:VCALENDAR