BEGIN:VCALENDAR
VERSION:2.0
PRODID:-//DFG Oldenburg - ECPv6.15.11//NONSGML v1.0//EN
CALSCALE:GREGORIAN
METHOD:PUBLISH
X-WR-CALNAME:DFG Oldenburg
X-ORIGINAL-URL:https://dfg-oldenburg.com
X-WR-CALDESC:Veranstaltungen für DFG Oldenburg
REFRESH-INTERVAL;VALUE=DURATION:PT1H
X-Robots-Tag:noindex
X-PUBLISHED-TTL:PT1H
BEGIN:VTIMEZONE
TZID:Europe/Berlin
BEGIN:DAYLIGHT
TZOFFSETFROM:+0100
TZOFFSETTO:+0200
TZNAME:CEST
DTSTART:20240331T010000
END:DAYLIGHT
BEGIN:STANDARD
TZOFFSETFROM:+0200
TZOFFSETTO:+0100
TZNAME:CET
DTSTART:20241027T010000
END:STANDARD
BEGIN:DAYLIGHT
TZOFFSETFROM:+0100
TZOFFSETTO:+0200
TZNAME:CEST
DTSTART:20250330T010000
END:DAYLIGHT
BEGIN:STANDARD
TZOFFSETFROM:+0200
TZOFFSETTO:+0100
TZNAME:CET
DTSTART:20251026T010000
END:STANDARD
BEGIN:DAYLIGHT
TZOFFSETFROM:+0100
TZOFFSETTO:+0200
TZNAME:CEST
DTSTART:20260329T010000
END:DAYLIGHT
BEGIN:STANDARD
TZOFFSETFROM:+0200
TZOFFSETTO:+0100
TZNAME:CET
DTSTART:20261025T010000
END:STANDARD
END:VTIMEZONE
BEGIN:VEVENT
DTSTART;TZID=Europe/Berlin:20251107T161500
DTEND;TZID=Europe/Berlin:20251107T180000
DTSTAMP:20260421T110123
CREATED:20251004T164521Z
LAST-MODIFIED:20251004T165217Z
UID:9468-1762532100-1762538400@dfg-oldenburg.com
SUMMARY:Kamishibai. Vorlese-Nachmittag für Kinder auf Französisch
DESCRIPTION:An diesem Nachmittag erwartet Euch wieder eine spannende Geschichte – erzählt mit dem Kamishibai\, einem japanischen „Erzähltheater“! Mit großen\, bunten Bildkarten taucht ihr in die Geschichten ein und könnt ganz spielerisch Französisch lernen. Wir freuen uns auf Euch und eine Zeit voller Spaß und Abenteuer! Die Veranstaltung richtet sich an alle\, die schon französisch sprechen oder es spielerisch lernen wollen. Für Kinder zwischen 3-6 Jahren. \nFreitag\, 7. November 2025\, 16:15 Uhr\nKinderbibliothek am PFL\, Peterstraße 1\, 26121 Oldenburg \nDer Eintrittspreis (Filmvorführung inkl. Getränk) beträgt 13\,50 € und ist an der Kinokasse zu entrichten. Um 10:30 Uhr Einstimmung mit Getränk. Die Filmvorführung beginnt um 11:00 Uhr. Reservieren\, bzw. buchen Sie bitte Ihre Platzkarten direkt beim Casablanca (www.casablanca.de\, Tel.: 0441/884757).\nDas Kino empfiehlt Online-Reservierung!
URL:https://dfg-oldenburg.com/veranstaltung/kamishibai-vorlese-nachmittag-fuer-kinder-auf-franzoesisch/
LOCATION:Kinderbibliothek am PFL\, Peterstraße 1\, Oldenburg\, 26121
CATEGORIES:Programm DFG,Vorlese-Nachmittag
END:VEVENT
END:VCALENDAR