BEGIN:VCALENDAR
VERSION:2.0
PRODID:-//DFG Oldenburg - ECPv6.15.11//NONSGML v1.0//EN
CALSCALE:GREGORIAN
METHOD:PUBLISH
X-WR-CALNAME:DFG Oldenburg
X-ORIGINAL-URL:https://dfg-oldenburg.com
X-WR-CALDESC:Veranstaltungen für DFG Oldenburg
REFRESH-INTERVAL;VALUE=DURATION:PT1H
X-Robots-Tag:noindex
X-PUBLISHED-TTL:PT1H
BEGIN:VTIMEZONE
TZID:Europe/Berlin
BEGIN:DAYLIGHT
TZOFFSETFROM:+0100
TZOFFSETTO:+0200
TZNAME:CEST
DTSTART:20240331T010000
END:DAYLIGHT
BEGIN:STANDARD
TZOFFSETFROM:+0200
TZOFFSETTO:+0100
TZNAME:CET
DTSTART:20241027T010000
END:STANDARD
BEGIN:DAYLIGHT
TZOFFSETFROM:+0100
TZOFFSETTO:+0200
TZNAME:CEST
DTSTART:20250330T010000
END:DAYLIGHT
BEGIN:STANDARD
TZOFFSETFROM:+0200
TZOFFSETTO:+0100
TZNAME:CET
DTSTART:20251026T010000
END:STANDARD
BEGIN:DAYLIGHT
TZOFFSETFROM:+0100
TZOFFSETTO:+0200
TZNAME:CEST
DTSTART:20260329T010000
END:DAYLIGHT
BEGIN:STANDARD
TZOFFSETFROM:+0200
TZOFFSETTO:+0100
TZNAME:CET
DTSTART:20261025T010000
END:STANDARD
END:VTIMEZONE
BEGIN:VEVENT
DTSTART;TZID=Europe/Berlin:20251205T161500
DTEND;TZID=Europe/Berlin:20251205T180000
DTSTAMP:20260421T105144
CREATED:20251004T165844Z
LAST-MODIFIED:20251004T165844Z
UID:9481-1764951300-1764957600@dfg-oldenburg.com
SUMMARY:Kamishibai. Vorlese-Nachmittag für Kinder auf Französisch
DESCRIPTION:Wieder ein spannender Vorlesenachmittag in der PFL Kinderbibliothek Oldenburg. Kommt vorbei und entdeckt mit uns eine bunte Welt voller Geschichten – auf Französisch!\nFür wen? Dieser Nachmittag richtet sich an alle Kinder (3-6)\, die spielerisch Französisch lernen oder ihre Kenntnisse vertiefen möchten. \nFreitag\, 5. Dezember\, 16:15 Uhr\nKinderbibliothek am PFL\, Peterstr. 1
URL:https://dfg-oldenburg.com/veranstaltung/kamishibai-vorlese-nachmittag-fuer-kinder-auf-franzoesisch-2/
LOCATION:Kinderbibliothek am PFL\, Peterstraße 1\, Oldenburg\, 26121
CATEGORIES:Programm DFG,Vorlese-Nachmittag
END:VEVENT
END:VCALENDAR