BEGIN:VCALENDAR
VERSION:2.0
PRODID:-//DFG Oldenburg - ECPv6.15.11//NONSGML v1.0//EN
CALSCALE:GREGORIAN
METHOD:PUBLISH
X-WR-CALNAME:DFG Oldenburg
X-ORIGINAL-URL:https://dfg-oldenburg.com
X-WR-CALDESC:Veranstaltungen für DFG Oldenburg
REFRESH-INTERVAL;VALUE=DURATION:PT1H
X-Robots-Tag:noindex
X-PUBLISHED-TTL:PT1H
BEGIN:VTIMEZONE
TZID:Europe/Berlin
BEGIN:DAYLIGHT
TZOFFSETFROM:+0100
TZOFFSETTO:+0200
TZNAME:CEST
DTSTART:20240331T010000
END:DAYLIGHT
BEGIN:STANDARD
TZOFFSETFROM:+0200
TZOFFSETTO:+0100
TZNAME:CET
DTSTART:20241027T010000
END:STANDARD
BEGIN:DAYLIGHT
TZOFFSETFROM:+0100
TZOFFSETTO:+0200
TZNAME:CEST
DTSTART:20250330T010000
END:DAYLIGHT
BEGIN:STANDARD
TZOFFSETFROM:+0200
TZOFFSETTO:+0100
TZNAME:CET
DTSTART:20251026T010000
END:STANDARD
BEGIN:DAYLIGHT
TZOFFSETFROM:+0100
TZOFFSETTO:+0200
TZNAME:CEST
DTSTART:20260329T010000
END:DAYLIGHT
BEGIN:STANDARD
TZOFFSETFROM:+0200
TZOFFSETTO:+0100
TZNAME:CET
DTSTART:20261025T010000
END:STANDARD
END:VTIMEZONE
BEGIN:VEVENT
DTSTART;TZID=Europe/Berlin:20251126T190000
DTEND;TZID=Europe/Berlin:20251126T210000
DTSTAMP:20260421T110306
CREATED:20251004T165328Z
LAST-MODIFIED:20251004T165328Z
UID:9475-1764183600-1764190800@dfg-oldenburg.com
SUMMARY:„Jour fixe“ mit „Parlons franҫais – conversation facile“
DESCRIPTION:Bei diesem monatlichen Treffen sind die DFG-Mitglieder und alle an der DFG Interessierten herzlich willkommen. Ab 20:00 Uhr auch „en allemand“… \nMittwoch\, 26. November 2025\, 19:00 Uhr\nBistro «Les deux Garçons»\, Lange Straße 31\, 26122 Oldenburg
URL:https://dfg-oldenburg.com/veranstaltung/jour-fixe-mit-parlons-fran%d2%abais-conversation-facile-17/
LOCATION:Café „Les deux Garçons“\, Lange Straße 31\, Oldenburg\, 26122
CATEGORIES:Konversation,Programm DFG
END:VEVENT
END:VCALENDAR