BEGIN:VCALENDAR
VERSION:2.0
PRODID:-//DFG Oldenburg - ECPv6.15.11//NONSGML v1.0//EN
CALSCALE:GREGORIAN
METHOD:PUBLISH
X-WR-CALNAME:DFG Oldenburg
X-ORIGINAL-URL:https://dfg-oldenburg.com
X-WR-CALDESC:Veranstaltungen für DFG Oldenburg
REFRESH-INTERVAL;VALUE=DURATION:PT1H
X-Robots-Tag:noindex
X-PUBLISHED-TTL:PT1H
BEGIN:VTIMEZONE
TZID:Europe/Berlin
BEGIN:DAYLIGHT
TZOFFSETFROM:+0100
TZOFFSETTO:+0200
TZNAME:CEST
DTSTART:20230326T010000
END:DAYLIGHT
BEGIN:STANDARD
TZOFFSETFROM:+0200
TZOFFSETTO:+0100
TZNAME:CET
DTSTART:20231029T010000
END:STANDARD
BEGIN:DAYLIGHT
TZOFFSETFROM:+0100
TZOFFSETTO:+0200
TZNAME:CEST
DTSTART:20240331T010000
END:DAYLIGHT
BEGIN:STANDARD
TZOFFSETFROM:+0200
TZOFFSETTO:+0100
TZNAME:CET
DTSTART:20241027T010000
END:STANDARD
BEGIN:DAYLIGHT
TZOFFSETFROM:+0100
TZOFFSETTO:+0200
TZNAME:CEST
DTSTART:20250330T010000
END:DAYLIGHT
BEGIN:STANDARD
TZOFFSETFROM:+0200
TZOFFSETTO:+0100
TZNAME:CET
DTSTART:20251026T010000
END:STANDARD
END:VTIMEZONE
BEGIN:VEVENT
DTSTART;TZID=Europe/Berlin:20240529T190000
DTEND;TZID=Europe/Berlin:20240529T210000
DTSTAMP:20260425T191744
CREATED:20240309T210454Z
LAST-MODIFIED:20250603T121720Z
UID:2258-1717009200-1717016400@dfg-oldenburg.com
SUMMARY:"Jour fixe" mit "Parlons franҫais - conversation facile"
DESCRIPTION:Bei diesem monatlichen Treffen sind die DFG-Mitglieder und alle an der DFG Interessierten herzlich willkommen. \nVon 19 bis 20 Uhr besteht die Gelegenheit zur französischen Konversation.
URL:https://dfg-oldenburg.com/veranstaltung/jour-fixe-mit-parlons-fran%d2%abais-conversation-facile-14/
LOCATION:Gesellschaftshaus bei Meyer\, Nadorster Straße 120\, Oldenburg\, Niedersachsen\, 26123\, Deutschland
ATTACH;FMTTYPE=image/jpeg:https://dfg-oldenburg.com/wp-content/uploads/2023/03/DFG-Logo_klein.jpg
END:VEVENT
END:VCALENDAR