BEGIN:VCALENDAR
VERSION:2.0
PRODID:-//DFG Oldenburg - ECPv6.15.11//NONSGML v1.0//EN
CALSCALE:GREGORIAN
METHOD:PUBLISH
X-WR-CALNAME:DFG Oldenburg
X-ORIGINAL-URL:https://dfg-oldenburg.com
X-WR-CALDESC:Veranstaltungen für DFG Oldenburg
REFRESH-INTERVAL;VALUE=DURATION:PT1H
X-Robots-Tag:noindex
X-PUBLISHED-TTL:PT1H
BEGIN:VTIMEZONE
TZID:Europe/Berlin
BEGIN:DAYLIGHT
TZOFFSETFROM:+0100
TZOFFSETTO:+0200
TZNAME:CEST
DTSTART:20240331T010000
END:DAYLIGHT
BEGIN:STANDARD
TZOFFSETFROM:+0200
TZOFFSETTO:+0100
TZNAME:CET
DTSTART:20241027T010000
END:STANDARD
BEGIN:DAYLIGHT
TZOFFSETFROM:+0100
TZOFFSETTO:+0200
TZNAME:CEST
DTSTART:20250330T010000
END:DAYLIGHT
BEGIN:STANDARD
TZOFFSETFROM:+0200
TZOFFSETTO:+0100
TZNAME:CET
DTSTART:20251026T010000
END:STANDARD
BEGIN:DAYLIGHT
TZOFFSETFROM:+0100
TZOFFSETTO:+0200
TZNAME:CEST
DTSTART:20260329T010000
END:DAYLIGHT
BEGIN:STANDARD
TZOFFSETFROM:+0200
TZOFFSETTO:+0100
TZNAME:CET
DTSTART:20261025T010000
END:STANDARD
END:VTIMEZONE
BEGIN:VEVENT
DTSTART;TZID=Europe/Berlin:20251127T190000
DTEND;TZID=Europe/Berlin:20251127T210000
DTSTAMP:20260421T122336
CREATED:20251004T165527Z
LAST-MODIFIED:20251004T165527Z
UID:9477-1764270000-1764277200@dfg-oldenburg.com
SUMMARY:„Die EU - Differenzierte Integration in Zeiten des Umbruchs“ - Vortrag von Prof. Dr. Hartwig Donner\, Dortmund:
DESCRIPTION:Wie bereits schon häufiger bei uns zu Gast\, wird uns Professor Dr. Hartwig Donner wieder einen sehr aktuellen Blick auf die EU vermitteln\, wobei er ihre bisherige Entwicklung sowie einen Ausblick in ihre Zukunft stets in seinen kurzweiligen Betrachtungen miteinbezieht. \nDonnerstag\, 27. November 2025\, 19:00 Uhr\nBistro «Les deux Garçons»\, Lange Straße 31\, 26122 Oldenburg \nEintritt Nichtmitglieder: 8\,00 €\nMitglieder: 5\,00 €\nSchüler\, Studenten frei
URL:https://dfg-oldenburg.com/veranstaltung/die-eu-differenzierte-integration-in-zeiten-des-umbruchs-vortrag-von-prof-dr-hartwig-donner-dortmund/
LOCATION:Café „Les deux Garçons“\, Lange Straße 31\, Oldenburg\, 26122
CATEGORIES:Programm DFG,Vortrag
END:VEVENT
END:VCALENDAR