BEGIN:VCALENDAR
VERSION:2.0
PRODID:-//DFG Oldenburg - ECPv6.15.11//NONSGML v1.0//EN
CALSCALE:GREGORIAN
METHOD:PUBLISH
X-WR-CALNAME:DFG Oldenburg
X-ORIGINAL-URL:https://dfg-oldenburg.com
X-WR-CALDESC:Veranstaltungen für DFG Oldenburg
REFRESH-INTERVAL;VALUE=DURATION:PT1H
X-Robots-Tag:noindex
X-PUBLISHED-TTL:PT1H
BEGIN:VTIMEZONE
TZID:Europe/Berlin
BEGIN:DAYLIGHT
TZOFFSETFROM:+0100
TZOFFSETTO:+0200
TZNAME:CEST
DTSTART:20230326T010000
END:DAYLIGHT
BEGIN:STANDARD
TZOFFSETFROM:+0200
TZOFFSETTO:+0100
TZNAME:CET
DTSTART:20231029T010000
END:STANDARD
BEGIN:DAYLIGHT
TZOFFSETFROM:+0100
TZOFFSETTO:+0200
TZNAME:CEST
DTSTART:20240331T010000
END:DAYLIGHT
BEGIN:STANDARD
TZOFFSETFROM:+0200
TZOFFSETTO:+0100
TZNAME:CET
DTSTART:20241027T010000
END:STANDARD
BEGIN:DAYLIGHT
TZOFFSETFROM:+0100
TZOFFSETTO:+0200
TZNAME:CEST
DTSTART:20250330T010000
END:DAYLIGHT
BEGIN:STANDARD
TZOFFSETFROM:+0200
TZOFFSETTO:+0100
TZNAME:CET
DTSTART:20251026T010000
END:STANDARD
END:VTIMEZONE
BEGIN:VEVENT
DTSTART;TZID=Europe/Berlin:20240427T150000
DTEND;TZID=Europe/Berlin:20240427T160000
DTSTAMP:20260426T022814
CREATED:20240309T211805Z
LAST-MODIFIED:20250603T121720Z
UID:2266-1714230000-1714233600@dfg-oldenburg.com
SUMMARY:Dia-Vortrag "Wunderbares Frankreich - Eine Tour de France zu außergewöhnlichen Orten"
DESCRIPTION:Dia-Vortrag von Ralf Petersen\, Duisburg \nRalf Petersen\, vielen bereits durch seine reichbebilderten und informativen Vorträge bekannt\, lädt wieder zu einer Reise durch Frankreich ein. Die Bilderreise führt zu außergewöhnlichen\, oft wenig bekannten Orten in Fankreich\, die alle ihren ganz besonderen Charme haben\, mit dem sie die Besuchenden verzaubern. Rosheim im Elsass\, Nancy in Lothringen\, Epernay und die Weinberge der Champagne\, Annecy\, das Venedig der Alpen\, die Ile St. Honorat\, das provenzalische Städtchen Ile sur Sorgues\, das ebenso mondäne wie moderne Biarritz\, die Baie des trepassés im äußersten Westen\, das Val de Saire im Cotentin und nicht zuletzt die Côte d’Opale mit Calais. \nEintritt: 8\,00 € (Mitglieder\, Schüler*innen\, Student*innen 5\,00 €) \nPlace Stanislas in Nancy (Foto: Ralf Petersen)
URL:https://dfg-oldenburg.com/veranstaltung/dia-vortrag-wunderbares-frankreich-eine-tour-de-france-zu-aussergewoehnlichen-orten/
LOCATION:Kulturzentrum im PFL\, Peterstraße 3\, Oldenburg\, Niedersachsen\, 26121\, Deutschland
ATTACH;FMTTYPE=image/jpeg:https://dfg-oldenburg.com/wp-content/uploads/2024/03/wunderbaresFr1-scaled-1.jpg
END:VEVENT
END:VCALENDAR