BEGIN:VCALENDAR
VERSION:2.0
PRODID:-//DFG Oldenburg - ECPv6.15.11//NONSGML v1.0//EN
CALSCALE:GREGORIAN
METHOD:PUBLISH
X-WR-CALNAME:DFG Oldenburg
X-ORIGINAL-URL:https://dfg-oldenburg.com
X-WR-CALDESC:Veranstaltungen für DFG Oldenburg
REFRESH-INTERVAL;VALUE=DURATION:PT1H
X-Robots-Tag:noindex
X-PUBLISHED-TTL:PT1H
BEGIN:VTIMEZONE
TZID:Europe/Berlin
BEGIN:DAYLIGHT
TZOFFSETFROM:+0100
TZOFFSETTO:+0200
TZNAME:CEST
DTSTART:20180325T010000
END:DAYLIGHT
BEGIN:STANDARD
TZOFFSETFROM:+0200
TZOFFSETTO:+0100
TZNAME:CET
DTSTART:20181028T010000
END:STANDARD
BEGIN:DAYLIGHT
TZOFFSETFROM:+0100
TZOFFSETTO:+0200
TZNAME:CEST
DTSTART:20190331T010000
END:DAYLIGHT
BEGIN:STANDARD
TZOFFSETFROM:+0200
TZOFFSETTO:+0100
TZNAME:CET
DTSTART:20191027T010000
END:STANDARD
BEGIN:DAYLIGHT
TZOFFSETFROM:+0100
TZOFFSETTO:+0200
TZNAME:CEST
DTSTART:20200329T010000
END:DAYLIGHT
BEGIN:STANDARD
TZOFFSETFROM:+0200
TZOFFSETTO:+0100
TZNAME:CET
DTSTART:20201025T010000
END:STANDARD
END:VTIMEZONE
BEGIN:VEVENT
DTSTART;TZID=Europe/Berlin:20190922T110000
DTEND;TZID=Europe/Berlin:20190922T123000
DTSTAMP:20260421T040255
CREATED:20190830T170018Z
LAST-MODIFIED:20190830T170018Z
UID:1477-1569150000-1569155400@dfg-oldenburg.com
SUMMARY:Dia-Vortrag "Paul Gauguin - Südseebilder" von Detlef Stein
DESCRIPTION:Die Vortragsreihe des Kunsthistorikers Detlef Stein zu französischen Künstlern geht weiter. Detlef Stein lädt zu einem Einblick in Paul Gauguins berühmten Südseebilder ein. \nHeute ist Paul Gauguin insbesondere für seine Werke bekannt\, die er am Ende seines Lebens in der Südsee schuf. Sie geben seiner Hoffnung Ausdruck\, weit ab von der Heimat im zivilisierten Europa ein Leben nach anderen Regeln zu führen. Der Vortrag stellt die Kluft zwischen Ideal und Wirklichkeit heraus und präsentiert die wichtigsten Werke und Motive jener Ära. \nEintritt: 8\,00 € (Mitglieder\, Schüler\, Studenten 5\,00 €)
URL:https://dfg-oldenburg.com/veranstaltung/dia-vortrag-paul-gauguin-suedseebilder-von-detlef-stein/
LOCATION:Kulturzentrum im PFL\, Peterstraße 3\, Oldenburg\, Niedersachsen\, 26121\, Deutschland
ATTACH;FMTTYPE=image/jpeg:https://dfg-oldenburg.com/wp-content/uploads/2019/08/Paul_Gauguin_Nafea_Faa_Ipoipo__When_Will_You_Marry__1892_oil_on_canvas_101_x_77_cm.jpg
END:VEVENT
END:VCALENDAR