BEGIN:VCALENDAR
VERSION:2.0
PRODID:-//DFG Oldenburg - ECPv6.15.11//NONSGML v1.0//EN
CALSCALE:GREGORIAN
METHOD:PUBLISH
X-WR-CALNAME:DFG Oldenburg
X-ORIGINAL-URL:https://dfg-oldenburg.com
X-WR-CALDESC:Veranstaltungen für DFG Oldenburg
REFRESH-INTERVAL;VALUE=DURATION:PT1H
X-Robots-Tag:noindex
X-PUBLISHED-TTL:PT1H
BEGIN:VTIMEZONE
TZID:Europe/Berlin
BEGIN:DAYLIGHT
TZOFFSETFROM:+0100
TZOFFSETTO:+0200
TZNAME:CEST
DTSTART:20230326T010000
END:DAYLIGHT
BEGIN:STANDARD
TZOFFSETFROM:+0200
TZOFFSETTO:+0100
TZNAME:CET
DTSTART:20231029T010000
END:STANDARD
BEGIN:DAYLIGHT
TZOFFSETFROM:+0100
TZOFFSETTO:+0200
TZNAME:CEST
DTSTART:20240331T010000
END:DAYLIGHT
BEGIN:STANDARD
TZOFFSETFROM:+0200
TZOFFSETTO:+0100
TZNAME:CET
DTSTART:20241027T010000
END:STANDARD
BEGIN:DAYLIGHT
TZOFFSETFROM:+0100
TZOFFSETTO:+0200
TZNAME:CEST
DTSTART:20250330T010000
END:DAYLIGHT
BEGIN:STANDARD
TZOFFSETFROM:+0200
TZOFFSETTO:+0100
TZNAME:CET
DTSTART:20251026T010000
END:STANDARD
END:VTIMEZONE
BEGIN:VEVENT
DTSTART;TZID=Europe/Berlin:20240525T110000
DTEND;TZID=Europe/Berlin:20240525T130000
DTSTAMP:20260425T203503
CREATED:20240309T211254Z
LAST-MODIFIED:20250603T121720Z
UID:2264-1716634800-1716642000@dfg-oldenburg.com
SUMMARY:"Café littéraire" mit Thierry Jonquets "Mygale"
DESCRIPTION:Diskussionsgrundlage ist das Buch von Thierry Jonquet: „Mygale“ (Folio policier\, ISBN : 978-2-07-046634-4). \nEve? Oui est-elle? Qui est Richard Lafargue\, l’homme qui la promène à son bras dans les soirées mondaines puis l’enferme à double tour dans une chambre? Pourquoi ce sourire subtil sur les lèvres de la jeune femme et autant de rage si mal contenue sur les traits creusés de son compagnon? Pourquoi vivre ensemble si c’est pour se haïr avec tant de passion? Drôle de couple…
URL:https://dfg-oldenburg.com/veranstaltung/cafe-litteraire-mit-thierry-jonquets-mygale/
LOCATION:Café Leutbecher am Schloss\, Schlossplatz 18\, Oldenburg\, Niedersachsen\, 26122
ATTACH;FMTTYPE=image/jpeg:https://dfg-oldenburg.com/wp-content/uploads/2017/03/Espresso_La_Cimbali_1-scaled.jpg
END:VEVENT
END:VCALENDAR