BEGIN:VCALENDAR
VERSION:2.0
PRODID:-//DFG Oldenburg - ECPv6.15.11//NONSGML v1.0//EN
CALSCALE:GREGORIAN
METHOD:PUBLISH
X-WR-CALNAME:DFG Oldenburg
X-ORIGINAL-URL:https://dfg-oldenburg.com
X-WR-CALDESC:Veranstaltungen für DFG Oldenburg
REFRESH-INTERVAL;VALUE=DURATION:PT1H
X-Robots-Tag:noindex
X-PUBLISHED-TTL:PT1H
BEGIN:VTIMEZONE
TZID:Europe/Berlin
BEGIN:DAYLIGHT
TZOFFSETFROM:+0100
TZOFFSETTO:+0200
TZNAME:CEST
DTSTART:20180325T010000
END:DAYLIGHT
BEGIN:STANDARD
TZOFFSETFROM:+0200
TZOFFSETTO:+0100
TZNAME:CET
DTSTART:20181028T010000
END:STANDARD
BEGIN:DAYLIGHT
TZOFFSETFROM:+0100
TZOFFSETTO:+0200
TZNAME:CEST
DTSTART:20190331T010000
END:DAYLIGHT
BEGIN:STANDARD
TZOFFSETFROM:+0200
TZOFFSETTO:+0100
TZNAME:CET
DTSTART:20191027T010000
END:STANDARD
BEGIN:DAYLIGHT
TZOFFSETFROM:+0100
TZOFFSETTO:+0200
TZNAME:CEST
DTSTART:20200329T010000
END:DAYLIGHT
BEGIN:STANDARD
TZOFFSETFROM:+0200
TZOFFSETTO:+0100
TZNAME:CET
DTSTART:20201025T010000
END:STANDARD
END:VTIMEZONE
BEGIN:VEVENT
DTSTART;TZID=Europe/Berlin:20190928T110000
DTEND;TZID=Europe/Berlin:20190928T130000
DTSTAMP:20260421T021202
CREATED:20190830T171534Z
LAST-MODIFIED:20190830T171534Z
UID:1483-1569668400-1569675600@dfg-oldenburg.com
SUMMARY:Café littéraire - Frederika Amalia Finkelsteins "Survivre"
DESCRIPTION:Bei der Buchdiskussion im Café Leutbecher bildet diesmal Frederika Amalia Finkelsteins Buch „Survire“ die Grundlage für angeregte Gespräche in französischer Sprache. \nAva\, die 25-jährige Erzählerin\, ist wie betäubt und voller Wut angesichts des Terroranschlags im Bataclan. Wenn sie berichtet\, was die allgegenwärtigen Bilder der Gewalt in ihr auslösen\, spricht sie für eine ganze Generation: “Le soir du 13 novembre 2015\, j’ai compris que la guerre pouvait éclater en bas de chez moi – une forme inouïe de guerre. La peur et la méfiance sont devenues normales: je vis en attendant le prochain attentat. Le soir du 13 novembre\, ma génération s’en est prise à elle-même: les assassins avaient le même âge que les assassinés. Survivre est un hommage à cette génération\, née avec les écrans\, ultra-connectée\, et pourtant en proie à une immense solitude. Nous voulons être libres: parfois pour le meilleur\, parfois pour le pire.” \nWeitere Informationen zu dem Buch finden Sie hier: https://www.reclam.de/detail/978-3-15-019947-3/Finkelstein__Frederika_Amalia/Survivre
URL:https://dfg-oldenburg.com/veranstaltung/cafe-litteraire-frederika-amalia-finkelsteins-survivre/
LOCATION:Café Leutbecher am Schloss\, Schlossplatz 18\, Oldenburg\, Niedersachsen\, 26122
ATTACH;FMTTYPE=image/jpeg:https://dfg-oldenburg.com/wp-content/uploads/2017/03/Espresso_La_Cimbali_1-scaled.jpg
END:VEVENT
END:VCALENDAR