BEGIN:VCALENDAR
VERSION:2.0
PRODID:-//DFG Oldenburg - ECPv6.15.11//NONSGML v1.0//EN
CALSCALE:GREGORIAN
METHOD:PUBLISH
X-WR-CALNAME:DFG Oldenburg
X-ORIGINAL-URL:https://dfg-oldenburg.com
X-WR-CALDESC:Veranstaltungen für DFG Oldenburg
REFRESH-INTERVAL;VALUE=DURATION:PT1H
X-Robots-Tag:noindex
X-PUBLISHED-TTL:PT1H
BEGIN:VTIMEZONE
TZID:Europe/Berlin
BEGIN:DAYLIGHT
TZOFFSETFROM:+0100
TZOFFSETTO:+0200
TZNAME:CEST
DTSTART:20240331T010000
END:DAYLIGHT
BEGIN:STANDARD
TZOFFSETFROM:+0200
TZOFFSETTO:+0100
TZNAME:CET
DTSTART:20241027T010000
END:STANDARD
BEGIN:DAYLIGHT
TZOFFSETFROM:+0100
TZOFFSETTO:+0200
TZNAME:CEST
DTSTART:20250330T010000
END:DAYLIGHT
BEGIN:STANDARD
TZOFFSETFROM:+0200
TZOFFSETTO:+0100
TZNAME:CET
DTSTART:20251026T010000
END:STANDARD
BEGIN:DAYLIGHT
TZOFFSETFROM:+0100
TZOFFSETTO:+0200
TZNAME:CEST
DTSTART:20260329T010000
END:DAYLIGHT
BEGIN:STANDARD
TZOFFSETFROM:+0200
TZOFFSETTO:+0100
TZNAME:CET
DTSTART:20261025T010000
END:STANDARD
END:VTIMEZONE
BEGIN:VEVENT
DTSTART;TZID=Europe/Berlin:20250621T110000
DTEND;TZID=Europe/Berlin:20250621T110000
DTSTAMP:20260425T163609
CREATED:20250610T081345Z
LAST-MODIFIED:20250617T093025Z
UID:8976-1750503600-1750503600@dfg-oldenburg.com
SUMMARY:"Café littéraire"
DESCRIPTION:Das zu besprechende Buch wird noch bekannt gegeben und kann in Kürze in unserer Geschäftsstelle unter Telefon 0441/201076 erfragt werden.
URL:https://dfg-oldenburg.com/veranstaltung/cafe-litteraire-7/
LOCATION:Café Leutbecher am Schloss\, Schlossplatz 18\, Oldenburg\, Niedersachsen\, 26122
CATEGORIES:Konversation,Programm DFG
ATTACH;FMTTYPE=image/jpeg:https://dfg-oldenburg.com/wp-content/uploads/2017/03/Espresso_La_Cimbali_1-scaled.jpg
END:VEVENT
END:VCALENDAR