BEGIN:VCALENDAR
VERSION:2.0
PRODID:-//DFG Oldenburg - ECPv6.15.11//NONSGML v1.0//EN
CALSCALE:GREGORIAN
METHOD:PUBLISH
X-WR-CALNAME:DFG Oldenburg
X-ORIGINAL-URL:https://dfg-oldenburg.com
X-WR-CALDESC:Veranstaltungen für DFG Oldenburg
REFRESH-INTERVAL;VALUE=DURATION:PT1H
X-Robots-Tag:noindex
X-PUBLISHED-TTL:PT1H
BEGIN:VTIMEZONE
TZID:Europe/Berlin
BEGIN:DAYLIGHT
TZOFFSETFROM:+0100
TZOFFSETTO:+0200
TZNAME:CEST
DTSTART:20180325T010000
END:DAYLIGHT
BEGIN:STANDARD
TZOFFSETFROM:+0200
TZOFFSETTO:+0100
TZNAME:CET
DTSTART:20181028T010000
END:STANDARD
BEGIN:DAYLIGHT
TZOFFSETFROM:+0100
TZOFFSETTO:+0200
TZNAME:CEST
DTSTART:20190331T010000
END:DAYLIGHT
BEGIN:STANDARD
TZOFFSETFROM:+0200
TZOFFSETTO:+0100
TZNAME:CET
DTSTART:20191027T010000
END:STANDARD
BEGIN:DAYLIGHT
TZOFFSETFROM:+0100
TZOFFSETTO:+0200
TZNAME:CEST
DTSTART:20200329T010000
END:DAYLIGHT
BEGIN:STANDARD
TZOFFSETFROM:+0200
TZOFFSETTO:+0100
TZNAME:CET
DTSTART:20201025T010000
END:STANDARD
END:VTIMEZONE
BEGIN:VEVENT
DTSTART;TZID=Europe/Berlin:20191207T000000
DTEND;TZID=Europe/Berlin:20191207T235959
DTSTAMP:20260421T053143
CREATED:20191103T105459Z
LAST-MODIFIED:20191103T105459Z
UID:1533-1575676800-1575763199@dfg-oldenburg.com
SUMMARY:Besuch der Ausstellung "Impressionismus - Meisterwerke aus der Sammlung Ordrupgaard" in der Kunsthalle Hamburg
DESCRIPTION:Dr. Markus Bertsch\, Kurator der Ausstellung\, schreibt dazu: „Im Herbst und Winter 2019/20 ist der französische Impressionismus in Form von Spitzenwerken des Ordrupgaard Museums in Hamburg zu Gast. Die Sammlung des seit 1953 staatlichen dänischen Museums geht auf die Schätze zurück\, die der Versicherungsdirektor Wilhelm Hansen mit seiner Frau Henny ab Ende des 19. Jahrhunderts zusammentrug. Im Zentrum der Ausstellung stehen Gemälde sämtlicher führender Maler und Malerinnen des Impressionismus: Camille Pissarro\, Édouard Manet\, Edgar Degas\, Alfred Sisley\, Claude Monet\, Berthe Morisot\, Pierre-Auguste Renoir und Eva Gonzalès. Anhand der ausgestellten Werke lassen sich die motivischen\, maltechnischen und wahrnehmungsspezifischen Revolutionen\, die sich von den 1870er Jahren an binnen weniger Jahrzehnte auf der Leinwand ereigneten\, plastisch nachvollziehen. Einen besonderen Höhepunkt bildet eine Werkgruppe von acht Gemälden Paul Gauguins\, dessen Schaffen bereits im Zeichen des Post-Impressionismus steht. Nachdem das Ehepaar Hansen ab den 1890er Jahren zunächst auf dänische Kunst fokussiert war\, widmete es sich von 1916 an gezielt dem Aufbau einer repräsentativen Sammlung französischer Malerei. In Paris unterhielten die Hansens Kontakte zu Kritikern wie Théodore Duret sowie zu prominenten Kunsthändlern\, insbesondere Ambroise Vollard\, mit deren Hilfe sie ihre spektakuläre Sammlung aufbauten. Jedoch beschränkte sich das Ehepaar nicht nur auf die Vertreter des Impressionismus. Sie bezogen auch die Zeiten davor und danach in ihre Aktivitäten mit ein – und damit die Entwicklungen eines ganzen Jahrhunderts französischer Malerei. So finden sich in der Ausstellung nicht nur Werke des Klassizismus und der Romantik (Jean-AugusteDominique Ingres und Eugène Delacroix)\, sondern mit Gustave Courbet\, Camille Corot\, Charles-François Daubigny und Jules Dupré auch Arbeiten von führenden Künstlern des französischen Realismus versammelt. Indem diese bereits Pleinair-Malerei praktizierten\, werden sie zu Recht als Vorboten des Impressionismus geführt. Nach Ausstellungen zu Degas (2009) und zu Manet (2016) bietet „Impressionismus. Meisterwerke aus der Sammlung Ordrupgaard“ erstmals die Gelegenheit\, Spitzenwerke sämtlicher führender Vertreter des Impressionismus in Hamburg zu sehen. Dies ist den guten Beziehungen der Kunsthalle zum Ordrupgaard Museum zu verdanken\, das im Zuge von Erweiterungsarbeiten diese außergewöhnlich großzügige Kollektion für Hamburg bereitstellt.“ \nIm Anschluss an den einstündigen Besuch der Ausstellung ist noch genügend Zeit für einen Bummel durch das weihnachtlich geschmückte Hamburg. \n09.00 Uhr Abfahrt vom P+R-Parkplatz am Marschweg\, unter der Autobahnbrücke oder vor dem Marschwegstadion\, Oldenburg \n17.00 Uhr Rückfahrt ab Hamburg \nKosten für Busfahrt\, Ausstellungsbesuch und Führung betragen \nfür Mitglieder\, Schüler und Studenten 36\,00 € \nfür Nichtmitglieder 41\,00 € \nMit der telefonischen Anmeldung bei Catherine Rüppell (Tel. 04483 – 658) bis spätestens 23. November 2019 bitten wir auch um die Überweisung des entsprechenden Betrags auf das Konto der DFG\, Kontonummer IBAN: DE 02 2805 0100 0014 4355 56.
URL:https://dfg-oldenburg.com/veranstaltung/besuch-der-ausstellung-impressionismus-meisterwerke-aus-der-sammlung-ordrupgaard-in-der-kunsthalle-hamburg/
ATTACH;FMTTYPE=image/jpeg:https://dfg-oldenburg.com/wp-content/uploads/2019/11/kunsthalle-3338832_960_7201.jpg
END:VEVENT
END:VCALENDAR